BEGIN:VCALENDAR
PRODID:-//Microsoft Corporation//Outlook 12.0 MIMEDIR//EN
VERSION:2.0
CALSCALE:GREGORIAN
BEGIN:VEVENT
UID: 6db5a8f1-6e77-4264-a3d5-f01f83c0d08c
SUMMARY:Õppenõukogu koosolek
DTSTAMP:20190826T000000
DTSTART:20190826T000000
DTEND:20190826T130700
LOCATION:
DESCRIPTION: <p>	Õppenõukogu toimub 30. augustil kell 10.00</p><p><strong>Link: </strong>https://puka.edu.ee/et/sundmuste-kalender/oppenoukogu-koosolek</p><p><strong>Hind: </strong></p>
STATUS:CONFIRMED
SEQUENCE:3
X-ALT-DESC;FMTTYPE=text/html:<p>	Õppenõukogu toimub 30. augustil kell 10.00</p><p><strong>Link: </strong>https://puka.edu.ee/et/sundmuste-kalender/oppenoukogu-koosolek</p><p><strong>Hind: </strong></p>
X-MICROSOFT-CDO-BUSYSTATUS:OOF
X-MICROSOFT-CDO-IMPORTANCE:1
X-MICROSOFT-DISALLOW-COUNTER:FALSE
X-MS-OLK-ALLOWEXTERNCHECK:TRUE
X-MS-OLK-CONFTYPE:0
X-MICROSOFT-CDO-ALLDAYEVENT:
X-MICROSOFT-MSNCALENDAR-ALLDAYEVENT:
END:VEVENT
END:VCALENDAR